BEGIN:VCALENDAR
VERSION:2.0
PRODID:-//Dummy Testing - ECPv5.3.2.1//NONSGML v1.0//EN
CALSCALE:GREGORIAN
METHOD:PUBLISH
X-WR-CALNAME:Dummy Testing
X-ORIGINAL-URL:https://dummydav.davjournals.in
X-WR-CALDESC:Events for Dummy Testing
BEGIN:VTIMEZONE
TZID:UTC
BEGIN:STANDARD
TZOFFSETFROM:+0000
TZOFFSETTO:+0000
TZNAME:UTC
DTSTART:20250101T000000
END:STANDARD
END:VTIMEZONE
BEGIN:VEVENT
DTSTART;VALUE=DATE:20250918
DTEND;VALUE=DATE:20250919
DTSTAMP:20260421T130602
CREATED:20230416T060615Z
LAST-MODIFIED:20250910T071855Z
UID:9014-1758153600-1758239999@dummydav.davjournals.in
SUMMARY:Reserve Bank of India
DESCRIPTION:
URL:https://dummydav.davjournals.in/event/rbi/
LOCATION:DAV PG College\, Varanasi\, Varanasi\, Varanasi\, Uttar Pradesh\, 221001\, India
CATEGORIES:Event
ORGANIZER;CN="DAV%20PG%20College":MAILTO:admin@davpgcvns.ac.in
END:VEVENT
END:VCALENDAR